BEGIN:VCALENDAR
VERSION:2.0
PRODID:-//Plone.org//NONSGML plone.app.event//EN
X-WR-TIMEZONE:Brazil/East
BEGIN:VEVENT
SUMMARY:CONVITE (Requerimento nº282/2026)
DTSTART;TZID=Brazil/East;VALUE=DATE-TIME:20260420T140000
DTEND;TZID=Brazil/East;VALUE=DATE-TIME:20260420T150000
DTSTAMP;VALUE=DATE-TIME:20260421T032607Z
UID:879e33ff6aff47c381439d2b28a0cb09@info52:8080
CREATED;VALUE=DATE-TIME:20260313T161745Z
DESCRIPTION:Convite ao Senhor Vagner da Costa\, Presidente do Sport Club A
 mericano\, para participar da Sessão Ordinária do dia 20 de abril de 202
 6\, a fim de apresentar o projeto social desenvolvido pelo clube. Autoria:
  vereador Ito Luciano.
LAST-MODIFIED;VALUE=DATE-TIME:20260313T161819Z
LOCATION:PLENARIO
URL:https://portal.camaranh.rs.gov.br/pm3/institucional/eventos/convite-re
 querimento-no282-2026
END:VEVENT
BEGIN:VEVENT
SUMMARY: SESSÃO SOLENE (Requerimento nº52/2026) 
DTSTART;TZID=Brazil/East;VALUE=DATE-TIME:20260423T190000
DTEND;TZID=Brazil/East;VALUE=DATE-TIME:20260423T210000
DTSTAMP;VALUE=DATE-TIME:20260421T032607Z
UID:e118f4c330254ee08ea2a265364982f5@info52:8080
CREATED;VALUE=DATE-TIME:20260204T163230Z
DESCRIPTION:Realização de Sessão Solene no dia 23 de abril de 2026\, à
 s 19 horas\, para a entrega do Prêmio Ernest Sarlet de Educação. Autori
 a:Da Mesa da Câmara Municipal.\n
LAST-MODIFIED;VALUE=DATE-TIME:20260224T123724Z
LOCATION:PLENARIO
URL:https://portal.camaranh.rs.gov.br/pm3/institucional/eventos/sessao-sol
 ene-requerimento-no52-2026
END:VEVENT
BEGIN:VTIMEZONE
TZID:Brazil/East
X-LIC-LOCATION:Brazil/East
BEGIN:STANDARD
DTSTART;VALUE=DATE-TIME:20260221T230000
TZNAME:BRT
TZOFFSETFROM:-0200
TZOFFSETTO:-0300
END:STANDARD
END:VTIMEZONE
END:VCALENDAR
